Workbook
Name Druckbereich_TNListe: 'TN Liste'!$Y$4

Sheet Deckblatt
A1: Kinder- und Jugendförderplan Nordrhein-Westfalen | F1: #VALUE! | I1: Kurzanleitung:
A2: geförderte Maßnahme nach Position 1.1.3 | J2: Wichtig: alle grauen Felder ausfüllen!
A3: Träger: Jugend des Deutschen Alpenvereins -
A4: Landesverband Nordrhein-Westfalen
A5: Version: V2026-1 vom 02.03.2026
A6: Veranstalter
A7: Sektion | D7: Juref | H7: =AND(B7<>0,F7<>0) -> FALSE | I7: Automatische Kontrolle ob alle grauen Felder ausgefüllt sind.
A8: Straße, Nr. | D8: Email | H8: =AND(B8<>0,F8<>0) -> FALSE
A9: PLZ, Ort | D9: Leitung | H9: =AND(B9<>0,F9<>0) -> FALSE
A10: Kontoinhaber | D10: Telefon | H10: =AND(B10<>0,F10<>0) -> FALSE
A11: IBAN | D11: Email | H11: =AND(B11<>0,F11<>0) -> FALSE
A12: Veranstaltung
A13: Titel | H13: =B13<>"" -> FALSE | I13: Unbedingt eine konkrete Adresse angeben, da diese für die Datenerhebung nötig ist. Bei Fahrten mit Ortswechel die erste Adresse angeben.
A14: Land, PLZ, Ort | H14: =B14<>"" -> FALSE
A15: Datum - Start | B15: 46023 | C15: Ende | D15: 46032 | F15: Tage | G15: =D15-B15+1 -> 10 | H15: =AND(B15<>0,D15<>0) -> TRUE | I15: Der Wert "Tage" wird automatisch aus den Daten berechnet - als Hilfe für "Bewilligte Tage"
A16: Bewilligte Tage (ggf. kürzer) | C16: 8 | D16: TNT gemäß Liste | F16: =SUM(TN_Liste[TNT]) -> 0 | H16: =C16<>"" -> TRUE | I16: Bewilligte Tage müssen extra angegeben werden. Meistens entsprechen diese den tatsächlichen Tagen aus "Tage", sie können jedoch abweichen (z.B. bei mehr als 7 Tagen oder bei Bildungsmaßnahmen).
A17: Art der Veranstaltung | B17: 1 | C17: 1: Ferienmaßnahme (6 bis 21 Jahre) 2: Bildungsmaßnahme "Kinder und Jugendliche" (6 bis 21 Jahre) 3: Bildungsmaßnahme "Multiplikator*innen" (min. 13 Jahre) | H17: =B17<>"" -> TRUE
A18: Fördermittel
C19: FM | D19: BM | F19: Beantragt | G19: Bewilligt
A20: Basis TNT Satz | C20: 11 | D20: 21 | E20: =IF(B17=1,C20,IF(B17>1,D20,0)) -> 11 | F20: =IF(Nachhaltigkeit!B10="ja",E20,0) -> 11 | H20: =AND(C20<>"",D20<>"") -> TRUE | I20: Wichtig die Förderung setzt eine vegetarische Ernährung und alkoholfreie Durchführung der Fahrt voraus. Die Angaben müssen auf dem Tabellenblatt Nachhaltigkeit getätigt werden.
A21: Zusatzförderung Nachhaltigkeit | F21: =IF(Nachhaltigkeit!B10="ja",Nachhaltigkeit!F43,0) -> 0 | G21: =Nachhaltigkeit!F44 -> 0
A22: TNT Satz aus KJFP Mitteln | F22: =IF(B17<>1,F20+F21,MIN(15,F20+F21)) -> 11 | G22: =IF($B$17=3,IF(G20+G21>50,50,G20+G21),IF(G20+G21>15,15,G21+G20)) -> 0
A23: TNT Satz aus JDAV-NRW Eigenmitteln | F23: =IF(F20+F21-F22>0,F20+F21-F22,0) -> 0 | G23: =IF(G20+G21-G22>0,G20+G21-G22,0) -> 0
A24: Abrechnung
A25: Ausgaben | B25: Beantragt | C25: Bewilligt | D25: Einnahmen | F25: Beantragt | G25: Bewilligt
A26: Unterkunft u Verpf. | B26: =SUMIF(Ausgaben[Kategorie],A26,Ausgaben[Preis]) -> 0 | D26: Zuschuss KJFP | F26: =F22*F16 -> 0 | I26: ="Info: Gesamtzuschuss (Zuschuss KJFP + JDAV-NRW Eigenmittel) = " & F26 + F27 &"€" -> Info: Gesamtzuschuss (Zuschuss KJFP + JDAV-NRW Eigenmittel) = 0€
A27: Honorare | B27: =SUMIF(Ausgaben[Kategorie],A27,Ausgaben[Preis]) -> 0 | D27: jdav-NRW Mittel | F27: =F23*F16 -> 0
A28: Fahrtkosten | B28: =SUMIF(Ausgaben[Kategorie],A28,Ausgaben[Preis]) -> 0 | D28: öffentl. Mittel | F28: =SUMIF(Einnahmen[Kategorie],"öffentliche Mittel",Einnahmen[Preis]) -> 0
A29: Verbrauchsmaterial | B29: =SUMIF(Ausgaben[Kategorie],A29,Ausgaben[Preis]) -> 0 | D29: TN-Beiträge | F29: =SUMIF(Einnahmen[Kategorie],$D$29,Einnahmen[Preis]) -> 0
A30: Miete, Sonstiges | B30: =SUMIF(Ausgaben[Kategorie],"Sonstiges",Ausgaben[Preis]) -> 0 | D30: Sonstige Einnah. | F30: =SUMIF(Einnahmen[Kategorie],"Sonstige Einnahmen",Einnahmen[Preis]) -> 0
A31: Summe | B31: =SUM(B26:B30) -> 0 | D31: Summe | F31: =SUBTOTAL(9,F26:F30) -> 0
A32: Eigenleistung Veranstalter (Sektionsanteil) | F32: =F31-B31 -> 0
A33: Automatische Kontrollen
A34: Kriterium | C34: mögliche Lösung | F34: Beantragt | G34: Bewilligt
A35: Sektionsanteil Null oder Negativ | C35: =IF(F35=0,"TN-Beitrag oder Förderung senken","") | F35: =IF($F$32<=0,1,0) -> 1 | I35: Damit ihr unkompliziert alle Zuschüsse abrufen könnt, empfehlen wir einen Sektionsanteil von min. -500€.
A36: Min. 10% aus Eigenmittel | C36: =IF(F36=0,"TN-Beitrag erhöhen","") -> TN-Beitrag erhöhen | F36: =IF((F26+F28)<B31*0.9,1,0) -> 0 | I36: Der Eigenanteil darf durch die Teilnehmerbeiträge (TN-Gebühr) erbracht werden.
A37: Min. 7 TN förderfähig | C37: =IF(F37=-1,"Rücksprache halten","") -> Rücksprache halten | E37: =COUNTIF(TN_Liste[förd.f],"1") -> 0 | F37: =IF(E37>=7,1,-1) -> -1 | I37: Förderfähige Angebote sind üblicherweise für junge Menschen zwischen 6 und unter 21 Jahren gedacht, mit Ausnahmen für besondere Maßnahmen bis zum 27 Lebensjahr und intergenerative Angebote mit Schwerpunkt auf der Jugendförderung.
A38: Mehrzahl der TN förderfähig | C38: =IF(F38=-1,"Rücksprache halten","") -> Rücksprache halten | E38: =COUNTIFS(TN_Liste[Leiter ja/nein],"<>Ja",TN_Liste[Alter],">0") -> 0 | F38: =IF(E38=0,-1,IF(E37/E38>=0.5,1,-1)) -> -1
A40: Mit der Unterschrift bestätige ich, dass
A41: 1. die Fahrt gemäß den Richtlinien der JDAV und des Landes Sport Bundes NRW durchgeführt wurde.
...

Sheet Belegliste
A1: Titel: | C1: =Deckblatt!B13 -> 0 | D1: #VALUE! | F1: Kurzanleitung:
F2: Tabellen ausfüllen
A3: Leitung: | C3: =Deckblatt!F9 -> 0
F4: wird gedruckt bis Spalte E
A5: Einnahmen (ohne JDAV NRW-Zuschuss)
A7: Nr. | B7: Datum | C7: Was | D7: Kategorie | E7: Preis | L7: Info: 3.1.4 KJFP Pos. 1.3 Förderungsfähige Kosten
A8: E-1 | C8: Summe TN-Beiträge | D8: TN-Beiträge | L8: 3.1.4 KJFP Pos. 1.3 Förderungsfähige Kosten
A9: E-2 | D9: öffentliche Mittel | F9: Den Sektionsanteil bitte nicht angeben – er ergibt sich aus der Differenz von Einnahmen und Ausgaben. | L9: 1. Unterkunfts- und Verpflegungskosten
D10: Sonstige Einnahmen | L10: 1.1 Übernachtungskosten mit Fremdbeleg
F11: Wichtig: Hier keinen Zuschuss der JDAV-NRW eintragen. | L11: 1.2 Verpflegung (F, M, A nach Tagessatz)
C12: Summe Einnahmen | E12: =SUBTOTAL(109,Einnahmen[Preis]) -> 0 | L12: 1.3 Getränke (ausgenommen Pfand, Alkohol, etc.)
F13: (Außerhalb des Druckbereiches, da für private Verwendung) | L13: 1.4 Turnhalle (nachgewiesene Nutzungskosten)
A14: Förderungsfähige Ausgaben (KJFP 1.3) | L14: 1.5 Kleinbetragsrechnungen (Quittungen für Selbstverpflegung)
A16: Nr. | B16: Datum | C16: Was | D16: Kategorie | E16: Preis | F16: Bezahlt von | L16: 2. Honorare (bezogen auf Maßnahme)
A17: 1 | H17: Bei Bedarf weitere Zeilen einfügen. | L17: 2.1 Honorarverträge inkl. Vor- und Nachbereitung von Lehrgangsleitungen/
A18: 2 | H18: Pro Rechnung (Beleg) eine Zeile verwenden. Bitte keine Ausgaben addieren! | L18: Referenten mit Einsatzzeiten und Unterrichtszeiten,
A19: 3 | L19: (mit Buchungsvermerk und zweiter Unterschrift)
A20: 4 | L20: 2.2 Betreuungsvergütungen (für Ferienfreizeiten und Betreuungsangebote)
A21: 5 | I21: =SUMIF(Ausgaben[Bezahlt von],H21,Ausgaben[Preis]) -> 0 | L21: 2.3 Dokumentationen, Berichte
A22: 6 | H22: Rückzahlungen der Ausgaben | J22: Wenn bei euch unterschiedliche Personen Ausgaben hatten, könnt ihr die Spalte "Bezahlt von" verwenden, um einfach auszurechen, wem ihr wie viel Geld auszahlen müsst.
A23: 7 | H23: {=_xlfn.UNIQUE(Ausgaben[Bezahlt von],FALSE,FALSE)} -> 0 | I23: =SUMIF(Ausgaben[Bezahlt von],H23,Ausgaben[Preis]) -> 0 | L23: 3. Fahrtkosten
A24: 8 | I24: =SUMIF(Ausgaben[Bezahlt von],H24,Ausgaben[Preis]) -> 0 | L24: 3.1 Reisekosten Lehrgangsleitungen (km-Abrechnung, Fahrausweise mit
A25: 9 | I25: =SUMIF(Ausgaben[Bezahlt von],H25,Ausgaben[Preis]) -> 0 | L25: öffentlichen Verkehrsmitteln, Tankquittungen)
A26: 10 | I26: =SUMIF(Ausgaben[Bezahlt von],H26,Ausgaben[Preis]) -> 0 | L26: 3.2 Fahrtkostenerstattung für Teilnehmer
A27: 11 | I27: =SUMIF(Ausgaben[Bezahlt von],H27,Ausgaben[Preis]) -> 0
A28: 12 | I28: =SUMIF(Ausgaben[Bezahlt von],H28,Ausgaben[Preis]) -> 0 | L28: 4. Verbrauchsmaterial
A29: 13 | I29: =SUMIF(Ausgaben[Bezahlt von],H29,Ausgaben[Preis]) -> 0 | L29: 4.1 Bastelmaterialien
A30: 14 | I30: =SUMIF(Ausgaben[Bezahlt von],H30,Ausgaben[Preis]) -> 0 | L30: 4.2 Kleinmaterialien, die einer Maßnahme zuzuordnen sind
A31: 15 | I31: =SUMIF(Ausgaben[Bezahlt von],H31,Ausgaben[Preis]) -> 0 | L31: 4.3 Arbeitsmaterialien für Maßnahme (Folien, etc.)
A32: 16 | I32: =SUMIF(Ausgaben[Bezahlt von],H32,Ausgaben[Preis]) -> 0
A33: 17 | I33: =SUMIF(Ausgaben[Bezahlt von],H33,Ausgaben[Preis]) -> 0 | L33: 5. Miete / Sonstiges
A34: 18 | I34: =SUMIF(Ausgaben[Bezahlt von],H34,Ausgaben[Preis]) -> 0 | L34: 5.1 Raummiete (Kosten für Räumlichkeit)
A35: 19 | I35: =SUMIF(Ausgaben[Bezahlt von],H35,Ausgaben[Preis]) -> 0 | L35: 5.2 Hauskosten (z.B. Fremdrechnung über Strom und Reinigung)
A36: 20 | I36: =SUMIF(Ausgaben[Bezahlt von],H36,Ausgaben[Preis]) -> 0 | L36: 5.3 Miete Buskosten (Anreise Teilnehmer)
A37: 21 | I37: =SUMIF(Ausgaben[Bezahlt von],H37,Ausgaben[Preis]) -> 0 | L37: 5.4 Druckkosten (Fremdbeleg über Ausschreibung)
A38: 22 | I38: =SUMIF(Ausgaben[Bezahlt von],H38,Ausgaben[Preis]) -> 0 | L38: 5.5 Kopierkosten (Copy-Shop)
A39: 23 | I39: =SUMIF(Ausgaben[Bezahlt von],H39,Ausgaben[Preis]) -> 0 | L39: 5.6 Telefonkosten (Fremdbeleg)
A40: 24 | I40: =SUMIF(Ausgaben[Bezahlt von],H40,Ausgaben[Preis]) -> 0 | L40: 5.7 T-Shirts (an Teilnehmer überreicht)
A41: 25 | I41: =SUMIF(Ausgaben[Bezahlt von],H41,Ausgaben[Preis]) -> 0 | L41: 5.8 Geräteausleihe
A42: 26
...

Sheet TN Liste
A1: Träger: | C1: Jugend des Deutschen Alpenvereins Landesverband Nordrhein-Westfalen | J1: #VALUE!
A2: Titel: | C2: =Deckblatt!B13 -> 0
A3: Ort: | C3: =Deckblatt!B14 -> 0 | Y3: automatischer Druckbereich:
A4: Art der Maßnahme: | C4: =Deckblatt!B17 -> 1 | D4: Start: | E4: =Deckblatt!B15 -> 46023 | F4: Ende: | G4: =Deckblatt!D15 -> 46032 | N4: 0 | O4: 1 | P4: 1 | Q4: -1 | R4: 0 | S4: Leiter sind nicht förderfähig | T4: Ü26 sind nicht förderfähig | U4: U6 sind nicht förderfähig | V4: Rücksprache erforderlich | W4: Bist du dir sicher? | Y4: {="$A$1:$M$"& MATCH(TRUE,ISBLANK(B$12:B$212),0)+10} -> $A$1:$M$11
A6: Für die Richtigkeit der Angaben: | Y6: Unterschrift(en) im Nachinein auf dem PDF ergänzen
E7: Ort | G7: Unterschrift (Leitung)
A9: TN über 20 und unter 27 sind in Ausnahmefällen förderfähig, wenn sie sich in Ausbildung befinden (Studium, Ausbildung, Schule), eine Behinderung oder einen Flüchtlingshintergrund haben oder Zivil/Wehrdienstleistende sind. Dafür ist zwingend Rücksprache zu halten.
L10: (wird automatisch berechnet)
A11: Ifd. Nr. | B11: Vorname | C11: Nachname | D11: Leiter ja/nein | E11: Geburts- datum | F11: PLZ | G11: Geschl. (m/w/d) | H11: Bemerkung | I11: TN ff ü20* | J11: Tage abwesend | K11: Alter | L11: förd.f | M11: TNT | N11: Leiter | O11: Art nicht 3 + Ü6 - U21 | P11: Art 3 + Ü13 | Q11: Art nicht 3 + Ü20 - U27 + TN ff "ja" | R11: default | S11: Leiter "ja" + TN ff "ja" | T11: TN ff "ja" + TN Ü26 + nicht Art 3 | U11: TN U6 | V11: Bedingung gelb | W11: Alter > 99 | Y11: Es können bis zu 200 TN eingetragen werden. Der Druckbereich passt sich automatisch an.
A12: =IF(TN_Liste[[#This Row],[Vorname]]="","",1) | K12: =IF(TN_Liste[[#This Row],[Geburts- datum]]="","",ROUNDDOWN(YEARFRAC(TN_Liste[[#This Row],[Geburts- datum]],$E$4),0)) | L12: {=IF(TN_Liste[[#This Row],[Alter]]<>"",INDEX($N$4:$R$4,_xlfn.XMATCH(TRUE,N12:R12)),"")} | M12: =IF(TN_Liste[[#This Row],[förd.f]]=1,Deckblatt!$C$16-TN_Liste[[#This Row],[Tage abwesend]],"") | N12: =TN_Liste[[#This Row],[Leiter ja/nein]]="ja" -> FALSE | O12: =AND($C$4<>3,TN_Liste[[#This Row],[Alter]]>=6,TN_Liste[[#This Row],[Alter]]<21) -> FALSE | P12: =AND($C$4=3,TN_Liste[[#This Row],[Alter]]>=13,TN_Liste[[#This Row],[Alter]]<>"") -> FALSE | Q12: =AND($C$4<>3,TN_Liste[[#This Row],[Alter]]>=21,TN_Liste[[#This Row],[Alter]]<27,TN_Liste[[#This Row],[TN ff ü20*]]="ja") -> FALSE | R12: =TRUE -> TRUE | S12: =AND(TN_Liste[[#This Row],[TN ff ü20*]]="ja",TN_Liste[[#This Row],[Leiter ja/nein]]="ja") -> FALSE | T12: =AND(TN_Liste[[#This Row],[TN ff ü20*]]="ja",TN_Liste[[#This Row],[Alter]]>=27,$C$4<>3) -> FALSE | U12: =TN_Liste[[#This Row],[Alter]]<6 -> FALSE | V12: =TN_Liste[[#This Row],[Art nicht 3 + Ü20 - U27 + TN ff "ja"]] -> FALSE | W12: =AND(TN_Liste[[#This Row],[Alter]]>99,TN_Liste[[#This Row],[Alter]]<>"") -> FALSE | Y12: {=IFERROR(INDEX($S$4:$W$4,_xlfn.XMATCH(TRUE,S12:W12)),"")}
A13: =IF(TN_Liste[[#This Row],[Vorname]]="","",A12+1) | K13: =IF(TN_Liste[[#This Row],[Geburts- datum]]="","",ROUNDDOWN(YEARFRAC(TN_Liste[[#This Row],[Geburts- datum]],$E$4),0)) | L13: {=IF(TN_Liste[[#This Row],[Alter]]<>"",INDEX($N$4:$R$4,_xlfn.XMATCH(TRUE,N13:R13)),"")} | M13: =IF(TN_Liste[[#This Row],[förd.f]]=1,Deckblatt!$C$16-TN_Liste[[#This Row],[Tage abwesend]],"") | N13: =TN_Liste[[#This Row],[Leiter ja/nein]]="ja" -> FALSE | O13: =AND($C$4<>3,TN_Liste[[#This Row],[Alter]]>=6,TN_Liste[[#This Row],[Alter]]<21) -> FALSE | P13: =AND($C$4=3,TN_Liste[[#This Row],[Alter]]>=13,TN_Liste[[#This Row],[Alter]]<>"") -> FALSE | Q13: =AND($C$4<>3,TN_Liste[[#This Row],[Alter]]>=21,TN_Liste[[#This Row],[Alter]]<27,TN_Liste[[#This Row],[TN ff ü20*]]="ja") -> FALSE | R13: =TRUE -> TRUE | S13: =AND(TN_Liste[[#This Row],[TN ff ü20*]]="ja",TN_Liste[[#This Row],[Leiter ja/nein]]="ja") -> FALSE | T13: =AND(TN_Liste[[#This Row],[TN ff ü20*]]="ja",TN_Liste[[#This Row],[Alter]]>=27,$C$4<>3) -> FALSE | U13: =TN_Liste[[#This Row],[Alter]]<6 -> FALSE | V13: =TN_Liste[[#This Row],[Art nicht 3 + Ü20 - U27 + TN ff "ja"]] -> FALSE | W13: =AND(TN_Liste[[#This Row],[Alter]]>99,TN_Liste[[#This Row],[Alter]]<>"") -> FALSE | Y13: {=IFERROR(INDEX($S$4:$W$4,_xlfn.XMATCH(TRUE,S13:W13)),"")}
A14: =IF(TN_Liste[[#This Row],[Vorname]]="","",A13+1) | K14: =IF(TN_Liste[[#This Row],[Geburts- datum]]="","",ROUNDDOWN(YEARFRAC(TN_Liste[[#This Row],[Geburts- datum]],$E$4),0)) | L14: {=IF(TN_Liste[[#This Row],[Alter]]<>"",INDEX($N$4:$R$4,_xlfn.XMATCH(TRUE,N14:R14)),"")} | M14: =IF(TN_Liste[[#This Row],[förd.f]]=1,Deckblatt!$C$16-TN_Liste[[#This Row],[Tage abwesend]],"") | N14: =TN_Liste[[#This Row],[Leiter ja/nein]]="ja" -> FALSE | O14: =AND($C$4<>3,TN_Liste[[#This Row],[Alter]]>=6,TN_Liste[[#This Row],[Alter]]<21) -> FALSE | P14: =AND($C$4=3,TN_Liste[[#This Row],[Alter]]>=13,TN_Liste[[#This Row],[Alter]]<>"") -> FALSE | Q14: =AND($C$4<>3,TN_Liste[[#This Row],[Alter]]>=21,TN_Liste[[#This Row],[Alter]]<27,TN_Liste[[#This Row],[TN ff ü20*]]="ja") -> FALSE | R14: =TRUE -> TRUE | S14: =AND(TN_Liste[[#This Row],[TN ff ü20*]]="ja",TN_Liste[[#This Row],[Leiter ja/nein]]="ja") -> FALSE | T14: =AND(TN_Liste[[#This Row],[TN ff ü20*]]="ja",TN_Liste[[#This Row],[Alter]]>=27,$C$4<>3) -> FALSE | U14: =TN_Liste[[#This Row],[Alter]]<6 -> FALSE | V14: =TN_Liste[[#This Row],[Art nicht 3 + Ü20 - U27 + TN ff "ja"]] -> FALSE | W14: =AND(TN_Liste[[#This Row],[Alter]]>99,TN_Liste[[#This Row],[Alter]]<>"") -> FALSE | Y14: {=IFERROR(INDEX($S$4:$W$4,_xlfn.XMATCH(TRUE,S14:W14)),"")}
A15: =IF(TN_Liste[[#This Row],[Vorname]]="","",A14+1) | K15: =IF(TN_Liste[[#This Row],[Geburts- datum]]="","",ROUNDDOWN(YEARFRAC(TN_Liste[[#This Row],[Geburts- datum]],$E$4),0)) | L15: {=IF(TN_Liste[[#This Row],[Alter]]<>"",INDEX($N$4:$R$4,_xlfn.XMATCH(TRUE,N15:R15)),"")} | M15: =IF(TN_Liste[[#This Row],[förd.f]]=1,Deckblatt!$C$16-TN_Liste[[#This Row],[Tage abwesend]],"") | N15: =TN_Liste[[#This Row],[Leiter ja/nein]]="ja" -> FALSE | O15: =AND($C$4<>3,TN_Liste[[#This Row],[Alter]]>=6,TN_Liste[[#This Row],[Alter]]<21) -> FALSE | P15: =AND($C$4=3,TN_Liste[[#This Row],[Alter]]>=13,TN_Liste[[#This Row],[Alter]]<>"") -> FALSE | Q15: =AND($C$4<>3,TN_Liste[[#This Row],[Alter]]>=21,TN_Liste[[#This Row],[Alter]]<27,TN_Liste[[#This Row],[TN ff ü20*]]="ja") -> FALSE | R15: =TRUE -> TRUE | S15: =AND(TN_Liste[[#This Row],[TN ff ü20*]]="ja",TN_Liste[[#This Row],[Leiter ja/nein]]="ja") -> FALSE | T15: =AND(TN_Liste[[#This Row],[TN ff ü20*]]="ja",TN_Liste[[#This Row],[Alter]]>=27,$C$4<>3) -> FALSE | U15: =TN_Liste[[#This Row],[Alter]]<6 -> FALSE | V15: =TN_Liste[[#This Row],[Art nicht 3 + Ü20 - U27 + TN ff "ja"]] -> FALSE | W15: =AND(TN_Liste[[#This Row],[Alter]]>99,TN_Liste[[#This Row],[Alter]]<>"") -> FALSE | Y15: {=IFERROR(INDEX($S$4:$W$4,_xlfn.XMATCH(TRUE,S15:W15)),"")}
A16: =IF(TN_Liste[[#This Row],[Vorname]]="","",A15+1) | K16: =IF(TN_Liste[[#This Row],[Geburts- datum]]="","",ROUNDDOWN(YEARFRAC(TN_Liste[[#This Row],[Geburts- datum]],$E$4),0)) | L16: {=IF(TN_Liste[[#This Row],[Alter]]<>"",INDEX($N$4:$R$4,_xlfn.XMATCH(TRUE,N16:R16)),"")} | M16: =IF(TN_Liste[[#This Row],[förd.f]]=1,Deckblatt!$C$16-TN_Liste[[#This Row],[Tage abwesend]],"") | N16: =TN_Liste[[#This Row],[Leiter ja/nein]]="ja" -> FALSE | O16: =AND($C$4<>3,TN_Liste[[#This Row],[Alter]]>=6,TN_Liste[[#This Row],[Alter]]<21) -> FALSE | P16: =AND($C$4=3,TN_Liste[[#This Row],[Alter]]>=13,TN_Liste[[#This Row],[Alter]]<>"") -> FALSE | Q16: =AND($C$4<>3,TN_Liste[[#This Row],[Alter]]>=21,TN_Liste[[#This Row],[Alter]]<27,TN_Liste[[#This Row],[TN ff ü20*]]="ja") -> FALSE | R16: =TRUE -> TRUE | S16: =AND(TN_Liste[[#This Row],[TN ff ü20*]]="ja",TN_Liste[[#This Row],[Leiter ja/nein]]="ja") -> FALSE | T16: =AND(TN_Liste[[#This Row],[TN ff ü20*]]="ja",TN_Liste[[#This Row],[Alter]]>=27,$C$4<>3) -> FALSE | U16: =TN_Liste[[#This Row],[Alter]]<6 -> FALSE | V16: =TN_Liste[[#This Row],[Art nicht 3 + Ü20 - U27 + TN ff "ja"]] -> FALSE | W16: =AND(TN_Liste[[#This Row],[Alter]]>99,TN_Liste[[#This Row],[Alter]]<>"") -> FALSE | Y16: {=IFERROR(INDEX($S$4:$W$4,_xlfn.XMATCH(TRUE,S16:W16)),"")}
A17: =IF(TN_Liste[[#This Row],[Vorname]]="","",A16+1) | K17: =IF(TN_Liste[[#This Row],[Geburts- datum]]="","",ROUNDDOWN(YEARFRAC(TN_Liste[[#This Row],[Geburts- datum]],$E$4),0)) | L17: {=IF(TN_Liste[[#This Row],[Alter]]<>"",INDEX($N$4:$R$4,_xlfn.XMATCH(TRUE,N17:R17)),"")} | M17: =IF(TN_Liste[[#This Row],[förd.f]]=1,Deckblatt!$C$16-TN_Liste[[#This Row],[Tage abwesend]],"") | N17: =TN_Liste[[#This Row],[Leiter ja/nein]]="ja" -> FALSE | O17: =AND($C$4<>3,TN_Liste[[#This Row],[Alter]]>=6,TN_Liste[[#This Row],[Alter]]<21) -> FALSE | P17: =AND($C$4=3,TN_Liste[[#This Row],[Alter]]>=13,TN_Liste[[#This Row],[Alter]]<>"") -> FALSE | Q17: =AND($C$4<>3,TN_Liste[[#This Row],[Alter]]>=21,TN_Liste[[#This Row],[Alter]]<27,TN_Liste[[#This Row],[TN ff ü20*]]="ja") -> FALSE | R17: =TRUE -> TRUE | S17: =AND(TN_Liste[[#This Row],[TN ff ü20*]]="ja",TN_Liste[[#This Row],[Leiter ja/nein]]="ja") -> FALSE | T17: =AND(TN_Liste[[#This Row],[TN ff ü20*]]="ja",TN_Liste[[#This Row],[Alter]]>=27,$C$4<>3) -> FALSE | U17: =TN_Liste[[#This Row],[Alter]]<6 -> FALSE | V17: =TN_Liste[[#This Row],[Art nicht 3 + Ü20 - U27 + TN ff "ja"]] -> FALSE | W17: =AND(TN_Liste[[#This Row],[Alter]]>99,TN_Liste[[#This Row],[Alter]]<>"") -> FALSE | Y17: {=IFERROR(INDEX($S$4:$W$4,_xlfn.XMATCH(TRUE,S17:W17)),"")}
A18: =IF(TN_Liste[[#This Row],[Vorname]]="","",A17+1) | K18: =IF(TN_Liste[[#This Row],[Geburts- datum]]="","",ROUNDDOWN(YEARFRAC(TN_Liste[[#This Row],[Geburts- datum]],$E$4),0)) | L18: {=IF(TN_Liste[[#This Row],[Alter]]<>"",INDEX($N$4:$R$4,_xlfn.XMATCH(TRUE,N18:R18)),"")} | M18: =IF(TN_Liste[[#This Row],[förd.f]]=1,Deckblatt!$C$16-TN_Liste[[#This Row],[Tage abwesend]],"") | N18: =TN_Liste[[#This Row],[Leiter ja/nein]]="ja" -> FALSE | O18: =AND($C$4<>3,TN_Liste[[#This Row],[Alter]]>=6,TN_Liste[[#This Row],[Alter]]<21) -> FALSE | P18: =AND($C$4=3,TN_Liste[[#This Row],[Alter]]>=13,TN_Liste[[#This Row],[Alter]]<>"") -> FALSE | Q18: =AND($C$4<>3,TN_Liste[[#This Row],[Alter]]>=21,TN_Liste[[#This Row],[Alter]]<27,TN_Liste[[#This Row],[TN ff ü20*]]="ja") -> FALSE | R18: =TRUE -> TRUE | S18: =AND(TN_Liste[[#This Row],[TN ff ü20*]]="ja",TN_Liste[[#This Row],[Leiter ja/nein]]="ja") -> FALSE | T18: =AND(TN_Liste[[#This Row],[TN ff ü20*]]="ja",TN_Liste[[#This Row],[Alter]]>=27,$C$4<>3) -> FALSE | U18: =TN_Liste[[#This Row],[Alter]]<6 -> FALSE | V18: =TN_Liste[[#This Row],[Art nicht 3 + Ü20 - U27 + TN ff "ja"]] -> FALSE | W18: =AND(TN_Liste[[#This Row],[Alter]]>99,TN_Liste[[#This Row],[Alter]]<>"") -> FALSE | Y18: {=IFERROR(INDEX($S$4:$W$4,_xlfn.XMATCH(TRUE,S18:W18)),"")}
A19: =IF(TN_Liste[[#This Row],[Vorname]]="","",A18+1) | K19: =IF(TN_Liste[[#This Row],[Geburts- datum]]="","",ROUNDDOWN(YEARFRAC(TN_Liste[[#This Row],[Geburts- datum]],$E$4),0)) | L19: {=IF(TN_Liste[[#This Row],[Alter]]<>"",INDEX($N$4:$R$4,_xlfn.XMATCH(TRUE,N19:R19)),"")} | M19: =IF(TN_Liste[[#This Row],[förd.f]]=1,Deckblatt!$C$16-TN_Liste[[#This Row],[Tage abwesend]],"") | N19: =TN_Liste[[#This Row],[Leiter ja/nein]]="ja" -> FALSE | O19: =AND($C$4<>3,TN_Liste[[#This Row],[Alter]]>=6,TN_Liste[[#This Row],[Alter]]<21) -> FALSE | P19: =AND($C$4=3,TN_Liste[[#This Row],[Alter]]>=13,TN_Liste[[#This Row],[Alter]]<>"") -> FALSE | Q19: =AND($C$4<>3,TN_Liste[[#This Row],[Alter]]>=21,TN_Liste[[#This Row],[Alter]]<27,TN_Liste[[#This Row],[TN ff ü20*]]="ja") -> FALSE | R19: =TRUE -> TRUE | S19: =AND(TN_Liste[[#This Row],[TN ff ü20*]]="ja",TN_Liste[[#This Row],[Leiter ja/nein]]="ja") -> FALSE | T19: =AND(TN_Liste[[#This Row],[TN ff ü20*]]="ja",TN_Liste[[#This Row],[Alter]]>=27,$C$4<>3) -> FALSE | U19: =TN_Liste[[#This Row],[Alter]]<6 -> FALSE | V19: =TN_Liste[[#This Row],[Art nicht 3 + Ü20 - U27 + TN ff "ja"]] -> FALSE | W19: =AND(TN_Liste[[#This Row],[Alter]]>99,TN_Liste[[#This Row],[Alter]]<>"") -> FALSE | Y19: {=IFERROR(INDEX($S$4:$W$4,_xlfn.XMATCH(TRUE,S19:W19)),"")}
A20: =IF(TN_Liste[[#This Row],[Vorname]]="","",A19+1) | K20: =IF(TN_Liste[[#This Row],[Geburts- datum]]="","",ROUNDDOWN(YEARFRAC(TN_Liste[[#This Row],[Geburts- datum]],$E$4),0)) | L20: {=IF(TN_Liste[[#This Row],[Alter]]<>"",INDEX($N$4:$R$4,_xlfn.XMATCH(TRUE,N20:R20)),"")} | M20: =IF(TN_Liste[[#This Row],[förd.f]]=1,Deckblatt!$C$16-TN_Liste[[#This Row],[Tage abwesend]],"") | N20: =TN_Liste[[#This Row],[Leiter ja/nein]]="ja" -> FALSE | O20: =AND($C$4<>3,TN_Liste[[#This Row],[Alter]]>=6,TN_Liste[[#This Row],[Alter]]<21) -> FALSE | P20: =AND($C$4=3,TN_Liste[[#This Row],[Alter]]>=13,TN_Liste[[#This Row],[Alter]]<>"") -> FALSE | Q20: =AND($C$4<>3,TN_Liste[[#This Row],[Alter]]>=21,TN_Liste[[#This Row],[Alter]]<27,TN_Liste[[#This Row],[TN ff ü20*]]="ja") -> FALSE | R20: =TRUE -> TRUE | S20: =AND(TN_Liste[[#This Row],[TN ff ü20*]]="ja",TN_Liste[[#This Row],[Leiter ja/nein]]="ja") -> FALSE | T20: =AND(TN_Liste[[#This Row],[TN ff ü20*]]="ja",TN_Liste[[#This Row],[Alter]]>=27,$C$4<>3) -> FALSE | U20: =TN_Liste[[#This Row],[Alter]]<6 -> FALSE | V20: =TN_Liste[[#This Row],[Art nicht 3 + Ü20 - U27 + TN ff "ja"]] -> FALSE | W20: =AND(TN_Liste[[#This Row],[Alter]]>99,TN_Liste[[#This Row],[Alter]]<>"") -> FALSE | Y20: {=IFERROR(INDEX($S$4:$W$4,_xlfn.XMATCH(TRUE,S20:W20)),"")}
A21: =IF(TN_Liste[[#This Row],[Vorname]]="","",A20+1) | K21: =IF(TN_Liste[[#This Row],[Geburts- datum]]="","",ROUNDDOWN(YEARFRAC(TN_Liste[[#This Row],[Geburts- datum]],$E$4),0)) | L21: {=IF(TN_Liste[[#This Row],[Alter]]<>"",INDEX($N$4:$R$4,_xlfn.XMATCH(TRUE,N21:R21)),"")} | M21: =IF(TN_Liste[[#This Row],[förd.f]]=1,Deckblatt!$C$16-TN_Liste[[#This Row],[Tage abwesend]],"") | N21: =TN_Liste[[#This Row],[Leiter ja/nein]]="ja" -> FALSE | O21: =AND($C$4<>3,TN_Liste[[#This Row],[Alter]]>=6,TN_Liste[[#This Row],[Alter]]<21) -> FALSE | P21: =AND($C$4=3,TN_Liste[[#This Row],[Alter]]>=13,TN_Liste[[#This Row],[Alter]]<>"") -> FALSE | Q21: =AND($C$4<>3,TN_Liste[[#This Row],[Alter]]>=21,TN_Liste[[#This Row],[Alter]]<27,TN_Liste[[#This Row],[TN ff ü20*]]="ja") -> FALSE | R21: =TRUE -> TRUE | S21: =AND(TN_Liste[[#This Row],[TN ff ü20*]]="ja",TN_Liste[[#This Row],[Leiter ja/nein]]="ja") -> FALSE | T21: =AND(TN_Liste[[#This Row],[TN ff ü20*]]="ja",TN_Liste[[#This Row],[Alter]]>=27,$C$4<>3) -> FALSE | U21: =TN_Liste[[#This Row],[Alter]]<6 -> FALSE | V21: =TN_Liste[[#This Row],[Art nicht 3 + Ü20 - U27 + TN ff "ja"]] -> FALSE | W21: =AND(TN_Liste[[#This Row],[Alter]]>99,TN_Liste[[#This Row],[Alter]]<>"") -> FALSE | Y21: {=IFERROR(INDEX($S$4:$W$4,_xlfn.XMATCH(TRUE,S21:W21)),"")}
A22: =IF(TN_Liste[[#This Row],[Vorname]]="","",A21+1) | K22: =IF(TN_Liste[[#This Row],[Geburts- datum]]="","",ROUNDDOWN(YEARFRAC(TN_Liste[[#This Row],[Geburts- datum]],$E$4),0)) | L22: {=IF(TN_Liste[[#This Row],[Alter]]<>"",INDEX($N$4:$R$4,_xlfn.XMATCH(TRUE,N22:R22)),"")} | M22: =IF(TN_Liste[[#This Row],[förd.f]]=1,Deckblatt!$C$16-TN_Liste[[#This Row],[Tage abwesend]],"") | N22: =TN_Liste[[#This Row],[Leiter ja/nein]]="ja" -> FALSE | O22: =AND($C$4<>3,TN_Liste[[#This Row],[Alter]]>=6,TN_Liste[[#This Row],[Alter]]<21) -> FALSE | P22: =AND($C$4=3,TN_Liste[[#This Row],[Alter]]>=13,TN_Liste[[#This Row],[Alter]]<>"") -> FALSE | Q22: =AND($C$4<>3,TN_Liste[[#This Row],[Alter]]>=21,TN_Liste[[#This Row],[Alter]]<27,TN_Liste[[#This Row],[TN ff ü20*]]="ja") -> FALSE | R22: =TRUE -> TRUE | S22: =AND(TN_Liste[[#This Row],[TN ff ü20*]]="ja",TN_Liste[[#This Row],[Leiter ja/nein]]="ja") -> FALSE | T22: =AND(TN_Liste[[#This Row],[TN ff ü20*]]="ja",TN_Liste[[#This Row],[Alter]]>=27,$C$4<>3) -> FALSE | U22: =TN_Liste[[#This Row],[Alter]]<6 -> FALSE | V22: =TN_Liste[[#This Row],[Art nicht 3 + Ü20 - U27 + TN ff "ja"]] -> FALSE | W22: =AND(TN_Liste[[#This Row],[Alter]]>99,TN_Liste[[#This Row],[Alter]]<>"") -> FALSE | Y22: {=IFERROR(INDEX($S$4:$W$4,_xlfn.XMATCH(TRUE,S22:W22)),"")}
A23: =IF(TN_Liste[[#This Row],[Vorname]]="","",A22+1) | K23: =IF(TN_Liste[[#This Row],[Geburts- datum]]="","",ROUNDDOWN(YEARFRAC(TN_Liste[[#This Row],[Geburts- datum]],$E$4),0)) | L23: {=IF(TN_Liste[[#This Row],[Alter]]<>"",INDEX($N$4:$R$4,_xlfn.XMATCH(TRUE,N23:R23)),"")} | M23: =IF(TN_Liste[[#This Row],[förd.f]]=1,Deckblatt!$C$16-TN_Liste[[#This Row],[Tage abwesend]],"") | N23: =TN_Liste[[#This Row],[Leiter ja/nein]]="ja" -> FALSE | O23: =AND($C$4<>3,TN_Liste[[#This Row],[Alter]]>=6,TN_Liste[[#This Row],[Alter]]<21) -> FALSE | P23: =AND($C$4=3,TN_Liste[[#This Row],[Alter]]>=13,TN_Liste[[#This Row],[Alter]]<>"") -> FALSE | Q23: =AND($C$4<>3,TN_Liste[[#This Row],[Alter]]>=21,TN_Liste[[#This Row],[Alter]]<27,TN_Liste[[#This Row],[TN ff ü20*]]="ja") -> FALSE | R23: =TRUE -> TRUE | S23: =AND(TN_Liste[[#This Row],[TN ff ü20*]]="ja",TN_Liste[[#This Row],[Leiter ja/nein]]="ja") -> FALSE | T23: =AND(TN_Liste[[#This Row],[TN ff ü20*]]="ja",TN_Liste[[#This Row],[Alter]]>=27,$C$4<>3) -> FALSE | U23: =TN_Liste[[#This Row],[Alter]]<6 -> FALSE | V23: =TN_Liste[[#This Row],[Art nicht 3 + Ü20 - U27 + TN ff "ja"]] -> FALSE | W23: =AND(TN_Liste[[#This Row],[Alter]]>99,TN_Liste[[#This Row],[Alter]]<>"") -> FALSE | Y23: {=IFERROR(INDEX($S$4:$W$4,_xlfn.XMATCH(TRUE,S23:W23)),"")}
A24: =IF(TN_Liste[[#This Row],[Vorname]]="","",A23+1) | K24: =IF(TN_Liste[[#This Row],[Geburts- datum]]="","",ROUNDDOWN(YEARFRAC(TN_Liste[[#This Row],[Geburts- datum]],$E$4),0)) | L24: {=IF(TN_Liste[[#This Row],[Alter]]<>"",INDEX($N$4:$R$4,_xlfn.XMATCH(TRUE,N24:R24)),"")} | M24: =IF(TN_Liste[[#This Row],[förd.f]]=1,Deckblatt!$C$16-TN_Liste[[#This Row],[Tage abwesend]],"") | N24: =TN_Liste[[#This Row],[Leiter ja/nein]]="ja" -> FALSE | O24: =AND($C$4<>3,TN_Liste[[#This Row],[Alter]]>=6,TN_Liste[[#This Row],[Alter]]<21) -> FALSE | P24: =AND($C$4=3,TN_Liste[[#This Row],[Alter]]>=13,TN_Liste[[#This Row],[Alter]]<>"") -> FALSE | Q24: =AND($C$4<>3,TN_Liste[[#This Row],[Alter]]>=21,TN_Liste[[#This Row],[Alter]]<27,TN_Liste[[#This Row],[TN ff ü20*]]="ja") -> FALSE | R24: =TRUE -> TRUE | S24: =AND(TN_Liste[[#This Row],[TN ff ü20*]]="ja",TN_Liste[[#This Row],[Leiter ja/nein]]="ja") -> FALSE | T24: =AND(TN_Liste[[#This Row],[TN ff ü20*]]="ja",TN_Liste[[#This Row],[Alter]]>=27,$C$4<>3) -> FALSE | U24: =TN_Liste[[#This Row],[Alter]]<6 -> FALSE | V24: =TN_Liste[[#This Row],[Art nicht 3 + Ü20 - U27 + TN ff "ja"]] -> FALSE | W24: =AND(TN_Liste[[#This Row],[Alter]]>99,TN_Liste[[#This Row],[Alter]]<>"") -> FALSE | Y24: {=IFERROR(INDEX($S$4:$W$4,_xlfn.XMATCH(TRUE,S24:W24)),"")}
... A136: =IF(TN_Liste[[#This Row],[Vorname]]="","",A135+1) | K136: =IF(TN_Liste[[#This Row],[Geburts- datum]]="","",ROUNDDOWN(YEARFRAC(TN_Liste[[#This Row],[Geburts- datum]],$E$4),0)) | L136: {=IF(TN_Liste[[#This Row],[Alter]]<>"",INDEX($N$4:$R$4,_xlfn.XMATCH(TRUE,N136:R136)),"")} | M136: =IF(TN_Liste[[#This Row],[förd.f]]=1,Deckblatt!$C$16-TN_Liste[[#This Row],[Tage abwesend]],"") | N136: =TN_Liste[[#This Row],[Leiter ja/nein]]="ja" -> FALSE | O136: =AND($C$4<>3,TN_Liste[[#This Row],[Alter]]>=6,TN_Liste[[#This Row],[Alter]]<21) -> FALSE | P136: =AND($C$4=3,TN_Liste[[#This Row],[Alter]]>=13,TN_Liste[[#This Row],[Alter]]<>"") -> FALSE | Q136: =AND($C$4<>3,TN_Liste[[#This Row],[Alter]]>=21,TN_Liste[[#This Row],[Alter]]<27,TN_Liste[[#This Row],[TN ff ü20*]]="ja") -> FALSE | R136: =TRUE -> TRUE | S136: =AND(TN_Liste[[#This Row],[TN ff ü20*]]="ja",TN_Liste[[#This Row],[Leiter ja/nein]]="ja") -> FALSE | T136: =AND(TN_Liste[[#This Row],[TN ff ü20*]]="ja",TN_Liste[[#This Row],[Alter]]>=27,$C$4<>3) -> FALSE | U136: =TN_Liste[[#This Row],[Alter]]<6 -> FALSE | V136: =TN_Liste[[#This Row],[Art nicht 3 + Ü20 - U27 + TN ff "ja"]] -> FALSE | W136: =AND(TN_Liste[[#This Row],[Alter]]>99,TN_Liste[[#This Row],[Alter]]<>"") -> FALSE | Y136: {=IFERROR(INDEX($S$4:$W$4,_xlfn.XMATCH(TRUE,S136:W136)),"")}
K137: =IF(TN_Liste[[#This Row],[Geburts- datum]]="","",ROUNDDOWN(YEARFRAC(TN_Liste[[#This Row],[Geburts- datum]],$E$4),0)) | L137: {=IF(TN_Liste[[#This Row],[Alter]]<>"",INDEX($N$4:$R$4,_xlfn.XMATCH(TRUE,N137:R137)),"")} | M137: =IF(TN_Liste[[#This Row],[förd.f]]=1,Deckblatt!$C$16-TN_Liste[[#This Row],[Tage abwesend]],"") | N137: =TN_Liste[[#This Row],[Leiter ja/nein]]="ja" -> FALSE | O137: =AND($C$4<>3,TN_Liste[[#This Row],[Alter]]>=6,TN_Liste[[#This Row],[Alter]]<21) -> FALSE | P137: =AND($C$4=3,TN_Liste[[#This Row],[Alter]]>=13,TN_Liste[[#This Row],[Alter]]<>"") -> FALSE | Q137: =AND($C$4<>3,TN_Liste[[#This Row],[Alter]]>=21,TN_Liste[[#This Row],[Alter]]<27,TN_Liste[[#This Row],[TN ff ü20*]]="ja") -> FALSE | R137: =TRUE -> TRUE | S137: =AND(TN_Liste[[#This Row],[TN ff ü20*]]="ja",TN_Liste[[#This Row],[Leiter ja/nein]]="ja") -> FALSE | T137: =AND(TN_Liste[[#This Row],[TN ff ü20*]]="ja",TN_Liste[[#This Row],[Alter]]>=27,$C$4<>3) -> FALSE | U137: =TN_Liste[[#This Row],[Alter]]<6 -> FALSE | V137: =TN_Liste[[#This Row],[Art nicht 3 + Ü20 - U27 + TN ff "ja"]] -> FALSE | W137: =AND(TN_Liste[[#This Row],[Alter]]>99,TN_Liste[[#This Row],[Alter]]<>"") -> FALSE | Y137: {=IFERROR(INDEX($S$4:$W$4,_xlfn.XMATCH(TRUE,S137:W137)),"")}
A138: =IF(TN_Liste[[#This Row],[Vorname]]="","",A137+1) | K138: =IF(TN_Liste[[#This Row],[Geburts- datum]]="","",ROUNDDOWN(YEARFRAC(TN_Liste[[#This Row],[Geburts- datum]],$E$4),0)) | L138: {=IF(TN_Liste[[#This Row],[Alter]]<>"",INDEX($N$4:$R$4,_xlfn.XMATCH(TRUE,N138:R138)),"")} | M138: =IF(TN_Liste[[#This Row],[förd.f]]=1,Deckblatt!$C$16-TN_Liste[[#This Row],[Tage abwesend]],"") | N138: =TN_Liste[[#This Row],[Leiter ja/nein]]="ja" -> FALSE | O138: =AND($C$4<>3,TN_Liste[[#This Row],[Alter]]>=6,TN_Liste[[#This Row],[Alter]]<21) -> FALSE | P138: =AND($C$4=3,TN_Liste[[#This Row],[Alter]]>=13,TN_Liste[[#This Row],[Alter]]<>"") -> FALSE | Q138: =AND($C$4<>3,TN_Liste[[#This Row],[Alter]]>=21,TN_Liste[[#This Row],[Alter]]<27,TN_Liste[[#This Row],[TN ff ü20*]]="ja") -> FALSE | R138: =TRUE -> TRUE | S138: =AND(TN_Liste[[#This Row],[TN ff ü20*]]="ja",TN_Liste[[#This Row],[Leiter ja/nein]]="ja") -> FALSE | T138: =AND(TN_Liste[[#This Row],[TN ff ü20*]]="ja",TN_Liste[[#This Row],[Alter]]>=27,$C$4<>3) -> FALSE | U138: =TN_Liste[[#This Row],[Alter]]<6 -> FALSE | V138: =TN_Liste[[#This Row],[Art nicht 3 + Ü20 - U27 + TN ff "ja"]] -> FALSE | W138: =AND(TN_Liste[[#This Row],[Alter]]>99,TN_Liste[[#This Row],[Alter]]<>"") -> FALSE | Y138: {=IFERROR(INDEX($S$4:$W$4,_xlfn.XMATCH(TRUE,S138:W138)),"")}
A139: =IF(TN_Liste[[#This Row],[Vorname]]="","",A138+1) | K139: =IF(TN_Liste[[#This Row],[Geburts- datum]]="","",ROUNDDOWN(YEARFRAC(TN_Liste[[#This Row],[Geburts- datum]],$E$4),0)) | L139: {=IF(TN_Liste[[#This Row],[Alter]]<>"",INDEX($N$4:$R$4,_xlfn.XMATCH(TRUE,N139:R139)),"")} | M139: =IF(TN_Liste[[#This Row],[förd.f]]=1,Deckblatt!$C$16-TN_Liste[[#This Row],[Tage abwesend]],"") | N139: =TN_Liste[[#This Row],[Leiter ja/nein]]="ja" -> FALSE | O139: =AND($C$4<>3,TN_Liste[[#This Row],[Alter]]>=6,TN_Liste[[#This Row],[Alter]]<21) -> FALSE | P139: =AND($C$4=3,TN_Liste[[#This Row],[Alter]]>=13,TN_Liste[[#This Row],[Alter]]<>"") -> FALSE | Q139: =AND($C$4<>3,TN_Liste[[#This Row],[Alter]]>=21,TN_Liste[[#This Row],[Alter]]<27,TN_Liste[[#This Row],[TN ff ü20*]]="ja") -> FALSE | R139: =TRUE -> TRUE | S139: =AND(TN_Liste[[#This Row],[TN ff ü20*]]="ja",TN_Liste[[#This Row],[Leiter ja/nein]]="ja") -> FALSE | T139: =AND(TN_Liste[[#This Row],[TN ff ü20*]]="ja",TN_Liste[[#This Row],[Alter]]>=27,$C$4<>3) -> FALSE | U139: =TN_Liste[[#This Row],[Alter]]<6 -> FALSE | V139: =TN_Liste[[#This Row],[Art nicht 3 + Ü20 - U27 + TN ff "ja"]] -> FALSE | W139: =AND(TN_Liste[[#This Row],[Alter]]>99,TN_Liste[[#This Row],[Alter]]<>"") -> FALSE | Y139: {=IFERROR(INDEX($S$4:$W$4,_xlfn.XMATCH(TRUE,S139:W139)),"")}
A140: =IF(TN_Liste[[#This Row],[Vorname]]="","",A139+1) | K140: =IF(TN_Liste[[#This Row],[Geburts- datum]]="","",ROUNDDOWN(YEARFRAC(TN_Liste[[#This Row],[Geburts- datum]],$E$4),0)) | L140: {=IF(TN_Liste[[#This Row],[Alter]]<>"",INDEX($N$4:$R$4,_xlfn.XMATCH(TRUE,N140:R140)),"")} | M140: =IF(TN_Liste[[#This Row],[förd.f]]=1,Deckblatt!$C$16-TN_Liste[[#This Row],[Tage abwesend]],"") | N140: =TN_Liste[[#This Row],[Leiter ja/nein]]="ja" -> FALSE | O140: =AND($C$4<>3,TN_Liste[[#This Row],[Alter]]>=6,TN_Liste[[#This Row],[Alter]]<21) -> FALSE | P140: =AND($C$4=3,TN_Liste[[#This Row],[Alter]]>=13,TN_Liste[[#This Row],[Alter]]<>"") -> FALSE | Q140: =AND($C$4<>3,TN_Liste[[#This Row],[Alter]]>=21,TN_Liste[[#This Row],[Alter]]<27,TN_Liste[[#This Row],[TN ff ü20*]]="ja") -> FALSE | R140: =TRUE -> TRUE | S140: =AND(TN_Liste[[#This Row],[TN ff ü20*]]="ja",TN_Liste[[#This Row],[Leiter ja/nein]]="ja") -> FALSE | T140: =AND(TN_Liste[[#This Row],[TN ff ü20*]]="ja",TN_Liste[[#This Row],[Alter]]>=27,$C$4<>3) -> FALSE | U140: =TN_Liste[[#This Row],[Alter]]<6 -> FALSE | V140: =TN_Liste[[#This Row],[Art nicht 3 + Ü20 - U27 + TN ff "ja"]] -> FALSE | W140: =AND(TN_Liste[[#This Row],[Alter]]>99,TN_Liste[[#This Row],[Alter]]<>"") -> FALSE | Y140: {=IFERROR(INDEX($S$4:$W$4,_xlfn.XMATCH(TRUE,S140:W140)),"")}
A141: =IF(TN_Liste[[#This Row],[Vorname]]="","",A140+1) | K141: =IF(TN_Liste[[#This Row],[Geburts- datum]]="","",ROUNDDOWN(YEARFRAC(TN_Liste[[#This Row],[Geburts- datum]],$E$4),0)) | L141: {=IF(TN_Liste[[#This Row],[Alter]]<>"",INDEX($N$4:$R$4,_xlfn.XMATCH(TRUE,N141:R141)),"")} | M141: =IF(TN_Liste[[#This Row],[förd.f]]=1,Deckblatt!$C$16-TN_Liste[[#This Row],[Tage abwesend]],"") | N141: =TN_Liste[[#This Row],[Leiter ja/nein]]="ja" -> FALSE | O141: =AND($C$4<>3,TN_Liste[[#This Row],[Alter]]>=6,TN_Liste[[#This Row],[Alter]]<21) -> FALSE | P141: =AND($C$4=3,TN_Liste[[#This Row],[Alter]]>=13,TN_Liste[[#This Row],[Alter]]<>"") -> FALSE | Q141: =AND($C$4<>3,TN_Liste[[#This Row],[Alter]]>=21,TN_Liste[[#This Row],[Alter]]<27,TN_Liste[[#This Row],[TN ff ü20*]]="ja") -> FALSE | R141: =TRUE -> TRUE | S141: =AND(TN_Liste[[#This Row],[TN ff ü20*]]="ja",TN_Liste[[#This Row],[Leiter ja/nein]]="ja") -> FALSE | T141: =AND(TN_Liste[[#This Row],[TN ff ü20*]]="ja",TN_Liste[[#This Row],[Alter]]>=27,$C$4<>3) -> FALSE | U141: =TN_Liste[[#This Row],[Alter]]<6 -> FALSE | V141: =TN_Liste[[#This Row],[Art nicht 3 + Ü20 - U27 + TN ff "ja"]] -> FALSE | W141: =AND(TN_Liste[[#This Row],[Alter]]>99,TN_Liste[[#This Row],[Alter]]<>"") -> FALSE | Y141: {=IFERROR(INDEX($S$4:$W$4,_xlfn.XMATCH(TRUE,S141:W141)),"")}
A142: =IF(TN_Liste[[#This Row],[Vorname]]="","",A141+1) | K142: =IF(TN_Liste[[#This Row],[Geburts- datum]]="","",ROUNDDOWN(YEARFRAC(TN_Liste[[#This Row],[Geburts- datum]],$E$4),0)) | L142: {=IF(TN_Liste[[#This Row],[Alter]]<>"",INDEX($N$4:$R$4,_xlfn.XMATCH(TRUE,N142:R142)),"")} | M142: =IF(TN_Liste[[#This Row],[förd.f]]=1,Deckblatt!$C$16-TN_Liste[[#This Row],[Tage abwesend]],"") | N142: =TN_Liste[[#This Row],[Leiter ja/nein]]="ja" -> FALSE | O142: =AND($C$4<>3,TN_Liste[[#This Row],[Alter]]>=6,TN_Liste[[#This Row],[Alter]]<21) -> FALSE | P142: =AND($C$4=3,TN_Liste[[#This Row],[Alter]]>=13,TN_Liste[[#This Row],[Alter]]<>"") -> FALSE | Q142: =AND($C$4<>3,TN_Liste[[#This Row],[Alter]]>=21,TN_Liste[[#This Row],[Alter]]<27,TN_Liste[[#This Row],[TN ff ü20*]]="ja") -> FALSE | R142: =TRUE -> TRUE | S142: =AND(TN_Liste[[#This Row],[TN ff ü20*]]="ja",TN_Liste[[#This Row],[Leiter ja/nein]]="ja") -> FALSE | T142: =AND(TN_Liste[[#This Row],[TN ff ü20*]]="ja",TN_Liste[[#This Row],[Alter]]>=27,$C$4<>3) -> FALSE | U142: =TN_Liste[[#This Row],[Alter]]<6 -> FALSE | V142: =TN_Liste[[#This Row],[Art nicht 3 + Ü20 - U27 + TN ff "ja"]] -> FALSE | W142: =AND(TN_Liste[[#This Row],[Alter]]>99,TN_Liste[[#This Row],[Alter]]<>"") -> FALSE | Y142: {=IFERROR(INDEX($S$4:$W$4,_xlfn.XMATCH(TRUE,S142:W142)),"")}
A143: =IF(TN_Liste[[#This Row],[Vorname]]="","",A142+1) | K143: =IF(TN_Liste[[#This Row],[Geburts- datum]]="","",ROUNDDOWN(YEARFRAC(TN_Liste[[#This Row],[Geburts- datum]],$E$4),0)) | L143: {=IF(TN_Liste[[#This Row],[Alter]]<>"",INDEX($N$4:$R$4,_xlfn.XMATCH(TRUE,N143:R143)),"")} | M143: =IF(TN_Liste[[#This Row],[förd.f]]=1,Deckblatt!$C$16-TN_Liste[[#This Row],[Tage abwesend]],"") | N143: =TN_Liste[[#This Row],[Leiter ja/nein]]="ja" -> FALSE | O143: =AND($C$4<>3,TN_Liste[[#This Row],[Alter]]>=6,TN_Liste[[#This Row],[Alter]]<21) -> FALSE | P143: =AND($C$4=3,TN_Liste[[#This Row],[Alter]]>=13,TN_Liste[[#This Row],[Alter]]<>"") -> FALSE | Q143: =AND($C$4<>3,TN_Liste[[#This Row],[Alter]]>=21,TN_Liste[[#This Row],[Alter]]<27,TN_Liste[[#This Row],[TN ff ü20*]]="ja") -> FALSE | R143: =TRUE -> TRUE | S143: =AND(TN_Liste[[#This Row],[TN ff ü20*]]="ja",TN_Liste[[#This Row],[Leiter ja/nein]]="ja") -> FALSE | T143: =AND(TN_Liste[[#This Row],[TN ff ü20*]]="ja",TN_Liste[[#This Row],[Alter]]>=27,$C$4<>3) -> FALSE | U143: =TN_Liste[[#This Row],[Alter]]<6 -> FALSE | V143: =TN_Liste[[#This Row],[Art nicht 3 + Ü20 - U27 + TN ff "ja"]] -> FALSE | W143: =AND(TN_Liste[[#This Row],[Alter]]>99,TN_Liste[[#This Row],[Alter]]<>"") -> FALSE | Y143: {=IFERROR(INDEX($S$4:$W$4,_xlfn.XMATCH(TRUE,S143:W143)),"")}
A144: =IF(TN_Liste[[#This Row],[Vorname]]="","",A143+1) | K144: =IF(TN_Liste[[#This Row],[Geburts- datum]]="","",ROUNDDOWN(YEARFRAC(TN_Liste[[#This Row],[Geburts- datum]],$E$4),0)) | L144: {=IF(TN_Liste[[#This Row],[Alter]]<>"",INDEX($N$4:$R$4,_xlfn.XMATCH(TRUE,N144:R144)),"")} | M144: =IF(TN_Liste[[#This Row],[förd.f]]=1,Deckblatt!$C$16-TN_Liste[[#This Row],[Tage abwesend]],"") | N144: =TN_Liste[[#This Row],[Leiter ja/nein]]="ja" -> FALSE | O144: =AND($C$4<>3,TN_Liste[[#This Row],[Alter]]>=6,TN_Liste[[#This Row],[Alter]]<21) -> FALSE | P144: =AND($C$4=3,TN_Liste[[#This Row],[Alter]]>=13,TN_Liste[[#This Row],[Alter]]<>"") -> FALSE | Q144: =AND($C$4<>3,TN_Liste[[#This Row],[Alter]]>=21,TN_Liste[[#This Row],[Alter]]<27,TN_Liste[[#This Row],[TN ff ü20*]]="ja") -> FALSE | R144: =TRUE -> TRUE | S144: =AND(TN_Liste[[#This Row],[TN ff ü20*]]="ja",TN_Liste[[#This Row],[Leiter ja/nein]]="ja") -> FALSE | T144: =AND(TN_Liste[[#This Row],[TN ff ü20*]]="ja",TN_Liste[[#This Row],[Alter]]>=27,$C$4<>3) -> FALSE | U144: =TN_Liste[[#This Row],[Alter]]<6 -> FALSE | V144: =TN_Liste[[#This Row],[Art nicht 3 + Ü20 - U27 + TN ff "ja"]] -> FALSE | W144: =AND(TN_Liste[[#This Row],[Alter]]>99,TN_Liste[[#This Row],[Alter]]<>"") -> FALSE | Y144: {=IFERROR(INDEX($S$4:$W$4,_xlfn.XMATCH(TRUE,S144:W144)),"")}
A145: =IF(TN_Liste[[#This Row],[Vorname]]="","",A144+1) | K145: =IF(TN_Liste[[#This Row],[Geburts- datum]]="","",ROUNDDOWN(YEARFRAC(TN_Liste[[#This Row],[Geburts- datum]],$E$4),0)) | L145: {=IF(TN_Liste[[#This Row],[Alter]]<>"",INDEX($N$4:$R$4,_xlfn.XMATCH(TRUE,N145:R145)),"")} | M145: =IF(TN_Liste[[#This Row],[förd.f]]=1,Deckblatt!$C$16-TN_Liste[[#This Row],[Tage abwesend]],"") | N145: =TN_Liste[[#This Row],[Leiter ja/nein]]="ja" -> FALSE | O145: =AND($C$4<>3,TN_Liste[[#This Row],[Alter]]>=6,TN_Liste[[#This Row],[Alter]]<21) -> FALSE | P145: =AND($C$4=3,TN_Liste[[#This Row],[Alter]]>=13,TN_Liste[[#This Row],[Alter]]<>"") -> FALSE | Q145: =AND($C$4<>3,TN_Liste[[#This Row],[Alter]]>=21,TN_Liste[[#This Row],[Alter]]<27,TN_Liste[[#This Row],[TN ff ü20*]]="ja") -> FALSE | R145: =TRUE -> TRUE | S145: =AND(TN_Liste[[#This Row],[TN ff ü20*]]="ja",TN_Liste[[#This Row],[Leiter ja/nein]]="ja") -> FALSE | T145: =AND(TN_Liste[[#This Row],[TN ff ü20*]]="ja",TN_Liste[[#This Row],[Alter]]>=27,$C$4<>3) -> FALSE | U145: =TN_Liste[[#This Row],[Alter]]<6 -> FALSE | V145: =TN_Liste[[#This Row],[Art nicht 3 + Ü20 - U27 + TN ff "ja"]] -> FALSE | W145: =AND(TN_Liste[[#This Row],[Alter]]>99,TN_Liste[[#This Row],[Alter]]<>"") -> FALSE | Y145: {=IFERROR(INDEX($S$4:$W$4,_xlfn.XMATCH(TRUE,S145:W145)),"")}
A146: =IF(TN_Liste[[#This Row],[Vorname]]="","",A145+1) | K146: =IF(TN_Liste[[#This Row],[Geburts- datum]]="","",ROUNDDOWN(YEARFRAC(TN_Liste[[#This Row],[Geburts- datum]],$E$4),0)) | L146: {=IF(TN_Liste[[#This Row],[Alter]]<>"",INDEX($N$4:$R$4,_xlfn.XMATCH(TRUE,N146:R146)),"")} | M146: =IF(TN_Liste[[#This Row],[förd.f]]=1,Deckblatt!$C$16-TN_Liste[[#This Row],[Tage abwesend]],"") | N146: =TN_Liste[[#This Row],[Leiter ja/nein]]="ja" -> FALSE | O146: =AND($C$4<>3,TN_Liste[[#This Row],[Alter]]>=6,TN_Liste[[#This Row],[Alter]]<21) -> FALSE | P146: =AND($C$4=3,TN_Liste[[#This Row],[Alter]]>=13,TN_Liste[[#This Row],[Alter]]<>"") -> FALSE | Q146: =AND($C$4<>3,TN_Liste[[#This Row],[Alter]]>=21,TN_Liste[[#This Row],[Alter]]<27,TN_Liste[[#This Row],[TN ff ü20*]]="ja") -> FALSE | R146: =TRUE -> TRUE | S146: =AND(TN_Liste[[#This Row],[TN ff ü20*]]="ja",TN_Liste[[#This Row],[Leiter ja/nein]]="ja") -> FALSE | T146: =AND(TN_Liste[[#This Row],[TN ff ü20*]]="ja",TN_Liste[[#This Row],[Alter]]>=27,$C$4<>3) -> FALSE | U146: =TN_Liste[[#This Row],[Alter]]<6 -> FALSE | V146: =TN_Liste[[#This Row],[Art nicht 3 + Ü20 - U27 + TN ff "ja"]] -> FALSE | W146: =AND(TN_Liste[[#This Row],[Alter]]>99,TN_Liste[[#This Row],[Alter]]<>"") -> FALSE | Y146: {=IFERROR(INDEX($S$4:$W$4,_xlfn.XMATCH(TRUE,S146:W146)),"")}
A147: =IF(TN_Liste[[#This Row],[Vorname]]="","",A146+1) | K147: =IF(TN_Liste[[#This Row],[Geburts- datum]]="","",ROUNDDOWN(YEARFRAC(TN_Liste[[#This Row],[Geburts- datum]],$E$4),0)) | L147: {=IF(TN_Liste[[#This Row],[Alter]]<>"",INDEX($N$4:$R$4,_xlfn.XMATCH(TRUE,N147:R147)),"")} | M147: =IF(TN_Liste[[#This Row],[förd.f]]=1,Deckblatt!$C$16-TN_Liste[[#This Row],[Tage abwesend]],"") | N147: =TN_Liste[[#This Row],[Leiter ja/nein]]="ja" -> FALSE | O147: =AND($C$4<>3,TN_Liste[[#This Row],[Alter]]>=6,TN_Liste[[#This Row],[Alter]]<21) -> FALSE | P147: =AND($C$4=3,TN_Liste[[#This Row],[Alter]]>=13,TN_Liste[[#This Row],[Alter]]<>"") -> FALSE | Q147: =AND($C$4<>3,TN_Liste[[#This Row],[Alter]]>=21,TN_Liste[[#This Row],[Alter]]<27,TN_Liste[[#This Row],[TN ff ü20*]]="ja") -> FALSE | R147: =TRUE -> TRUE | S147: =AND(TN_Liste[[#This Row],[TN ff ü20*]]="ja",TN_Liste[[#This Row],[Leiter ja/nein]]="ja") -> FALSE | T147: =AND(TN_Liste[[#This Row],[TN ff ü20*]]="ja",TN_Liste[[#This Row],[Alter]]>=27,$C$4<>3) -> FALSE | U147: =TN_Liste[[#This Row],[Alter]]<6 -> FALSE | V147: =TN_Liste[[#This Row],[Art nicht 3 + Ü20 - U27 + TN ff "ja"]] -> FALSE | W147: =AND(TN_Liste[[#This Row],[Alter]]>99,TN_Liste[[#This Row],[Alter]]<>"") -> FALSE | Y147: {=IFERROR(INDEX($S$4:$W$4,_xlfn.XMATCH(TRUE,S147:W147)),"")}
A148: =IF(TN_Liste[[#This Row],[Vorname]]="","",A147+1) | K148: =IF(TN_Liste[[#This Row],[Geburts- datum]]="","",ROUNDDOWN(YEARFRAC(TN_Liste[[#This Row],[Geburts- datum]],$E$4),0)) | L148: {=IF(TN_Liste[[#This Row],[Alter]]<>"",INDEX($N$4:$R$4,_xlfn.XMATCH(TRUE,N148:R148)),"")} | M148: =IF(TN_Liste[[#This Row],[förd.f]]=1,Deckblatt!$C$16-TN_Liste[[#This Row],[Tage abwesend]],"") | N148: =TN_Liste[[#This Row],[Leiter ja/nein]]="ja" -> FALSE | O148: =AND($C$4<>3,TN_Liste[[#This Row],[Alter]]>=6,TN_Liste[[#This Row],[Alter]]<21) -> FALSE | P148: =AND($C$4=3,TN_Liste[[#This Row],[Alter]]>=13,TN_Liste[[#This Row],[Alter]]<>"") -> FALSE | Q148: =AND($C$4<>3,TN_Liste[[#This Row],[Alter]]>=21,TN_Liste[[#This Row],[Alter]]<27,TN_Liste[[#This Row],[TN ff ü20*]]="ja") -> FALSE | R148: =TRUE -> TRUE | S148: =AND(TN_Liste[[#This Row],[TN ff ü20*]]="ja",TN_Liste[[#This Row],[Leiter ja/nein]]="ja") -> FALSE | T148: =AND(TN_Liste[[#This Row],[TN ff ü20*]]="ja",TN_Liste[[#This Row],[Alter]]>=27,$C$4<>3) -> FALSE | U148: =TN_Liste[[#This Row],[Alter]]<6 -> FALSE | V148: =TN_Liste[[#This Row],[Art nicht 3 + Ü20 - U27 + TN ff "ja"]] -> FALSE | W148: =AND(TN_Liste[[#This Row],[Alter]]>99,TN_Liste[[#This Row],[Alter]]<>"") -> FALSE | Y148: {=IFERROR(INDEX($S$4:$W$4,_xlfn.XMATCH(TRUE,S148:W148)),"")}
A149: =IF(TN_Liste[[#This Row],[Vorname]]="","",A148+1) | K149: =IF(TN_Liste[[#This Row],[Geburts- datum]]="","",ROUNDDOWN(YEARFRAC(TN_Liste[[#This Row],[Geburts- datum]],$E$4),0)) | L149: {=IF(TN_Liste[[#This Row],[Alter]]<>"",INDEX($N$4:$R$4,_xlfn.XMATCH(TRUE,N149:R149)),"")} | M149: =IF(TN_Liste[[#This Row],[förd.f]]=1,Deckblatt!$C$16-TN_Liste[[#This Row],[Tage abwesend]],"") | N149: =TN_Liste[[#This Row],[Leiter ja/nein]]="ja" -> FALSE | O149: =AND($C$4<>3,TN_Liste[[#This Row],[Alter]]>=6,TN_Liste[[#This Row],[Alter]]<21) -> FALSE | P149: =AND($C$4=3,TN_Liste[[#This Row],[Alter]]>=13,TN_Liste[[#This Row],[Alter]]<>"") -> FALSE | Q149: =AND($C$4<>3,TN_Liste[[#This Row],[Alter]]>=21,TN_Liste[[#This Row],[Alter]]<27,TN_Liste[[#This Row],[TN ff ü20*]]="ja") -> FALSE | R149: =TRUE -> TRUE | S149: =AND(TN_Liste[[#This Row],[TN ff ü20*]]="ja",TN_Liste[[#This Row],[Leiter ja/nein]]="ja") -> FALSE | T149: =AND(TN_Liste[[#This Row],[TN ff ü20*]]="ja",TN_Liste[[#This Row],[Alter]]>=27,$C$4<>3) -> FALSE | U149: =TN_Liste[[#This Row],[Alter]]<6 -> FALSE | V149: =TN_Liste[[#This Row],[Art nicht 3 + Ü20 - U27 + TN ff "ja"]] -> FALSE | W149: =AND(TN_Liste[[#This Row],[Alter]]>99,TN_Liste[[#This Row],[Alter]]<>"") -> FALSE | Y149: {=IFERROR(INDEX($S$4:$W$4,_xlfn.XMATCH(TRUE,S149:W149)),"")}
... A211: =IF(TN_Liste[[#This Row],[Vorname]]="","",A210+1) | K211: =IF(TN_Liste[[#This Row],[Geburts- datum]]="","",ROUNDDOWN(YEARFRAC(TN_Liste[[#This Row],[Geburts- datum]],$E$4),0)) | L211: {=IF(TN_Liste[[#This Row],[Alter]]<>"",INDEX($N$4:$R$4,_xlfn.XMATCH(TRUE,N211:R211)),"")} | M211: =IF(TN_Liste[[#This Row],[förd.f]]=1,Deckblatt!$C$16-TN_Liste[[#This Row],[Tage abwesend]],"") | N211: =TN_Liste[[#This Row],[Leiter ja/nein]]="ja" -> FALSE | O211: =AND($C$4<>3,TN_Liste[[#This Row],[Alter]]>=6,TN_Liste[[#This Row],[Alter]]<21) -> FALSE | P211: =AND($C$4=3,TN_Liste[[#This Row],[Alter]]>=13,TN_Liste[[#This Row],[Alter]]<>"") -> FALSE | Q211: =AND($C$4<>3,TN_Liste[[#This Row],[Alter]]>=21,TN_Liste[[#This Row],[Alter]]<27,TN_Liste[[#This Row],[TN ff ü20*]]="ja") -> FALSE | R211: =TRUE -> TRUE | S211: =AND(TN_Liste[[#This Row],[TN ff ü20*]]="ja",TN_Liste[[#This Row],[Leiter ja/nein]]="ja") -> FALSE | T211: =AND(TN_Liste[[#This Row],[TN ff ü20*]]="ja",TN_Liste[[#This Row],[Alter]]>=27,$C$4<>3) -> FALSE | U211: =TN_Liste[[#This Row],[Alter]]<6 -> FALSE | V211: =TN_Liste[[#This Row],[Art nicht 3 + Ü20 - U27 + TN ff "ja"]] -> FALSE | W211: =AND(TN_Liste[[#This Row],[Alter]]>99,TN_Liste[[#This Row],[Alter]]<>"") -> FALSE | Y211: {=IFERROR(INDEX($S$4:$W$4,_xlfn.XMATCH(TRUE,S211:W211)),"")}

Sheet Nachhaltigkeit
A2: Titel: | B2: =Deckblatt!B13 -> 0 | F2: #VALUE!
A4: Ort: | B4: =Deckblatt!B14 -> 0
A5: Start: | C5: =Deckblatt!B15 -> 46023 | D5: Ende: | E5: =Deckblatt!D15 -> 46032
A7: 1. Vegetarische Verpflegung und alkoholfreie Durchführung
B9: Die Maßnahme wurde mit vegetarischen Verpflegung und alkoholfrei durchgeführt.
B10: ja | I10: "Ja" oder "Nein" aus Dropdown auswählen
B12: Die Förderung ist an die vegetarische Verpflegung und alkoholfreie Durchführung geknüpft.
A15: 2. Zusatzförderung für die Mobilität
B17: Für die Hauptstecke der An- und Abreise wurden nachhaltige Verkehrsmittel gewählt.
B18: nein | C18: (4,00 € pro TNT) | I18: "Ja" oder "Nein" aus Dropdown auswählen
B21: Unter einer nachhaltigen Anreise werden folgende Verkehrsmittel uneingeschränkt verstanden:
C22: • öffentliche Verkehrsmittel
C23: • Fernbus
C24: • Fahrrad
C25: • zu Fuß
B27: Mit begründetem Antrag an die Landesjugendleitung sind förderfähig:
C28: • 9-Sitzer (z.B. als Materialauto)
C29: • E-Autos (hier ist darauf zu achten, dass das Auto 100% elektrisch fährt)
C30: • Reisebus (mindestens 75% Auslastung)
A33: 3. Selbstverpflichtung
B35: Wir verpflichten uns, dass wir uns während der Fahrt möglichst vegan ernähren.
B36: nein | C36: (1,00 € pro TNT) | I36: "Ja" oder "Nein" aus Dropdown auswählen
A39: Die Förderung wird für Ferien- und Bildungsmaßnahmen gewährt.
I40: Bitte lest euch bei Fragen die Regeln zur Nachhaltigkeitsförderung durch.
I41: Oder schreibt uns einfach.
D42: Anreise | E42: Verpflegung | F42: Summe
A43: Beantrage Zusatzförderung je TNT | D43: =IF(B18="ja",4,0) -> 0 | E43: =IF(B36="ja",1,0) -> 0 | F43: =SUM(D43:E43) -> 0
A44: Bewilligte Zusatzförderung je TNT | F44: =D44+E44 -> 0
D45: (Auszufüllen durch LJL)

Sheet Datenerhebung
A1: Titel: | B1: =Deckblatt!B13 -> 0 | F1: #VALUE!
A3: Ort: | B3: =Deckblatt!B14 -> 0
A4: Start: | B4: =Deckblatt!B15 -> 46023 | C4: Ende: | D4: =Deckblatt!D15 -> 46032
A5: Tage: | B5: =Deckblatt!G15 -> 10 | C5: Nächte: | D5: =D4-B4 -> 9
A7: 1. Wähle bis zu drei Themenschwerpunkte der Maßnahme:
B9: 1. Natur- und umweltbezogene Schwerpunkte | H9: Tippe einfach ein "x" ein. Zum Löschen, markiere die Zelle und drücke "entf".
B10: 2. Handwerklich-technische Schwerpunkte
B11: 3. Rettungs- und Hilfstechniken
B12: 4. (Gesellschafts-)politische, historische, arbeitsweltbezogene, interkulturelle, weltanschauliche, religiöse Schwerpunkte
B13: 5. Medien(pädagogische) Schwerpunkte
B14: 6. Hauswirtschaftliche Schwerpunkte
B15: 7. Jugendkulturelle und künstlerisch kreative Schwerpunkte
B16: 8. Spielbezogene Schwerpunkte
B17: 9. Sportbezogene Schwerpunkte
B18: 10. Schwerpunkte im Bereich der Traditions- und Brauchtumspflege
B19: 11. Schwerpunkte im Bereich der Didaktik und Methodik
B20: 12. Geschlechtsdifferenzierte Schwerpunkte
B21: 13. Auseinandersetzung mit dem Thema Gewalt und Gewaltprävention (einschließl. sexueller Gewalt)
B22: Sonstige
A24: 2. Art der Durchführung
B26: ausschließlich Präsenz
B27: ausschließlich Digital
B28: Präsenz und Digital
A30: 3. Personaleinsatz
B32: Ehrenamtliche
B33: Honorarkräfte
A35: 4. Personen (Bitte die Daten in den Tabellen kurz auf Plausibilität prüfen und evtl. TN-Liste anpassen.)
A37: 4.1 Anzahl der Teilnehmenden | F37: Kontrollsumme: | G37: =SUM(C40:G42) -> 0
B39: Alter: | C39: <10 | D39: 10 bis unter 14 | E39: 14 bis unter 18 | F39: 18 bis unter 27 | G39: >=27
B40: w | C40: =COUNTIFS(TN_Liste[Leiter ja/nein],"<>ja",TN_Liste[Geschl. (m/w/d)],$B40,TN_Liste[Alter],C$39) -> 0 | D40: =COUNTIFS(TN_Liste[Leiter ja/nein],"<>ja",TN_Liste[Geschl. (m/w/d)],$B40,TN_Liste[Alter],"<14")-C40 -> 0 | E40: =COUNTIFS(TN_Liste[Leiter ja/nein],"<>ja",TN_Liste[Geschl. (m/w/d)],$B40,TN_Liste[Alter],"<18")-SUM(C40:D40) -> 0 | F40: =COUNTIFS(TN_Liste[Leiter ja/nein],"<>ja",TN_Liste[Geschl. (m/w/d)],$B40,TN_Liste[Alter],"<27")-SUM(C40:E40) -> 0 | G40: =COUNTIFS(TN_Liste[Leiter ja/nein],"<>ja",TN_Liste[Geschl. (m/w/d)],$B40,TN_Liste[Alter],">26") -> 0
B41: m | C41: =COUNTIFS(TN_Liste[Leiter ja/nein],"<>ja",TN_Liste[Geschl. (m/w/d)],$B41,TN_Liste[Alter],C$39) -> 0 | D41: =COUNTIFS(TN_Liste[Leiter ja/nein],"<>ja",TN_Liste[Geschl. (m/w/d)],$B41,TN_Liste[Alter],"<14")-C41 -> 0 | E41: =COUNTIFS(TN_Liste[Leiter ja/nein],"<>ja",TN_Liste[Geschl. (m/w/d)],$B41,TN_Liste[Alter],"<18")-SUM(C41:D41) -> 0 | F41: =COUNTIFS(TN_Liste[Leiter ja/nein],"<>ja",TN_Liste[Geschl. (m/w/d)],$B41,TN_Liste[Alter],"<27")-SUM(C41:E41) -> 0 | G41: =COUNTIFS(TN_Liste[Leiter ja/nein],"<>ja",TN_Liste[Geschl. (m/w/d)],$B41,TN_Liste[Alter],">26") -> 0
B42: d | C42: =COUNTIFS(TN_Liste[Leiter ja/nein],"<>ja",TN_Liste[Geschl. (m/w/d)],$B42,TN_Liste[Alter],C$39) -> 0 | D42: =COUNTIFS(TN_Liste[Leiter ja/nein],"<>ja",TN_Liste[Geschl. (m/w/d)],$B42,TN_Liste[Alter],"<14")-C42 -> 0 | E42: =COUNTIFS(TN_Liste[Leiter ja/nein],"<>ja",TN_Liste[Geschl. (m/w/d)],$B42,TN_Liste[Alter],"<18")-SUM(C42:D42) -> 0 | F42: =COUNTIFS(TN_Liste[Leiter ja/nein],"<>ja",TN_Liste[Geschl. (m/w/d)],$B42,TN_Liste[Alter],"<27")-SUM(C42:E42) -> 0 | G42: =COUNTIFS(TN_Liste[Leiter ja/nein],"<>ja",TN_Liste[Geschl. (m/w/d)],$B42,TN_Liste[Alter],">26") -> 0
A44: 4.2 Anzahl der Ehrenamtlichen | F44: Kontrollsumme: | G44: =SUM(C47:G49) -> 0
B46: Alter: | C46: <16 | D46: 16 bis unter 18 | E46: 18 bis unter 27 | F46: 27 bis unter 45 | G46: >=45
B47: w | C47: =COUNTIFS(TN_Liste[Leiter ja/nein],"ja",TN_Liste[Geschl. (m/w/d)],$B47,TN_Liste[Alter],C$46) -> 0 | D47: =COUNTIFS(TN_Liste[Leiter ja/nein],"ja",TN_Liste[Geschl. (m/w/d)],$B47,TN_Liste[Alter],">=16",TN_Liste[Alter],"<18") -> 0 | E47: =COUNTIFS(TN_Liste[Leiter ja/nein],"ja",TN_Liste[Geschl. (m/w/d)],$B47,TN_Liste[Alter],">=18",TN_Liste[Alter],"<27") -> 0 | F47: =COUNTIFS(TN_Liste[Leiter ja/nein],"ja",TN_Liste[Geschl. (m/w/d)],$B47,TN_Liste[Alter],">=27",TN_Liste[Alter],"<45") -> 0 | G47: =COUNTIFS(TN_Liste[Leiter ja/nein],"ja",TN_Liste[Geschl. (m/w/d)],$B47,TN_Liste[Alter],G$46) -> 0
B48: m | C48: =COUNTIFS(TN_Liste[Leiter ja/nein],"ja",TN_Liste[Geschl. (m/w/d)],$B48,TN_Liste[Alter],C$46) -> 0 | D48: =COUNTIFS(TN_Liste[Leiter ja/nein],"ja",TN_Liste[Geschl. (m/w/d)],$B48,TN_Liste[Alter],">=16",TN_Liste[Alter],"<18") -> 0 | E48: =COUNTIFS(TN_Liste[Leiter ja/nein],"ja",TN_Liste[Geschl. (m/w/d)],$B48,TN_Liste[Alter],">=18",TN_Liste[Alter],"<27") -> 0 | F48: =COUNTIFS(TN_Liste[Leiter ja/nein],"ja",TN_Liste[Geschl. (m/w/d)],$B48,TN_Liste[Alter],">=27",TN_Liste[Alter],"<45") -> 0 | G48: =COUNTIFS(TN_Liste[Leiter ja/nein],"ja",TN_Liste[Geschl. (m/w/d)],$B48,TN_Liste[Alter],G$46) -> 0
B49: d | C49: =COUNTIFS(TN_Liste[Leiter ja/nein],"ja",TN_Liste[Geschl. (m/w/d)],$B49,TN_Liste[Alter],C$46) -> 0 | D49: =COUNTIFS(TN_Liste[Leiter ja/nein],"ja",TN_Liste[Geschl. (m/w/d)],$B49,TN_Liste[Alter],">=16",TN_Liste[Alter],"<18") -> 0 | E49: =COUNTIFS(TN_Liste[Leiter ja/nein],"ja",TN_Liste[Geschl. (m/w/d)],$B49,TN_Liste[Alter],">=18",TN_Liste[Alter],"<27") -> 0 | F49: =COUNTIFS(TN_Liste[Leiter ja/nein],"ja",TN_Liste[Geschl. (m/w/d)],$B49,TN_Liste[Alter],">=27",TN_Liste[Alter],"<45") -> 0 | G49: =COUNTIFS(TN_Liste[Leiter ja/nein],"ja",TN_Liste[Geschl. (m/w/d)],$B49,TN_Liste[Alter],G$46) -> 0
